BEGIN:VCALENDAR
VERSION:2.0
PRODID:spatie/icalendar-generator
DESCRIPTION:Veranstaltungen von Briefmarkenvereine
X-WR-CALDESC:Veranstaltungen von Briefmarkenvereine
REFRESH-INTERVAL;VALUE=DURATION:PT1440M
X-PUBLISHED-TTL:PT1440M
BEGIN:VTIMEZONE
TZID:Europe/Berlin
BEGIN:DAYLIGHT
DTSTART:20260329T020000Z
TZOFFSETFROM:+0100
TZOFFSETTO:+0200
END:DAYLIGHT
BEGIN:STANDARD
DTSTART:20261025T030000Z
TZOFFSETFROM:+0200
TZOFFSETTO:+0100
END:STANDARD
END:VTIMEZONE
BEGIN:VTIMEZONE
TZID:UTC
BEGIN:STANDARD
DTSTART:20250726T102948Z
TZOFFSETFROM:+0000
TZOFFSETTO:+0000
END:STANDARD
END:VTIMEZONE
BEGIN:VEVENT
UID:285-274
DTSTAMP:20260422T102948Z
SUMMARY:Großtauschtag BSV Lippe
LOCATION:Schulzentrum Werreanger Breite Straße  Lage NW 32791
ORGANIZER;CN=Public Submitter:MAILTO:
DTSTART;TZID=Europe/Berlin:20260906T090000
DTEND;TZID=Europe/Berlin:20260906T140000
X-ALT-DESC;FMTTYPE=TEXT/HTML:
CATEGORIES:Großtauschtag
URL;VALUE=URI:https://www.bmsv-owl-os.de/mc-events/grosstauschtag-bsv-lippe
 -2/
METHOD:PUBLISH
END:VEVENT
END:VCALENDAR