BEGIN:VCALENDAR
VERSION:2.0
PRODID:spatie/icalendar-generator
DESCRIPTION:Veranstaltungen von Briefmarkenvereine
X-WR-CALDESC:Veranstaltungen von Briefmarkenvereine
REFRESH-INTERVAL;VALUE=DURATION:PT1440M
X-PUBLISHED-TTL:PT1440M
BEGIN:VTIMEZONE
TZID:Europe/Berlin
BEGIN:DAYLIGHT
DTSTART:20250330T020000Z
TZOFFSETFROM:+0100
TZOFFSETTO:+0200
END:DAYLIGHT
BEGIN:STANDARD
DTSTART:20251026T030000Z
TZOFFSETFROM:+0200
TZOFFSETTO:+0100
END:STANDARD
END:VTIMEZONE
BEGIN:VTIMEZONE
TZID:UTC
BEGIN:STANDARD
DTSTART:20250726T103011Z
TZOFFSETFROM:+0000
TZOFFSETTO:+0000
END:STANDARD
END:VTIMEZONE
BEGIN:VEVENT
UID:172-161
DTSTAMP:20260422T103011Z
SUMMARY:Tauschtag BMSV Löhne
LOCATION:Werretalhalle Alte Bünder Str. 14  Löhne NW 32584
ORGANIZER;CN=Public Submitter:MAILTO:
DTSTART;TZID=Europe/Berlin:20250907T100000
DTEND;TZID=Europe/Berlin:20250907T120000
X-ALT-DESC;FMTTYPE=TEXT/HTML:
CATEGORIES:Tauschtreff
URL;VALUE=URI:https://www.bmsv-owl-os.de/mc-events/tauschtag-bmsv-loehne-3/
METHOD:PUBLISH
END:VEVENT
END:VCALENDAR