BEGIN:VCALENDAR
VERSION:2.0
PRODID:spatie/icalendar-generator
DESCRIPTION:Veranstaltungen von Briefmarkenvereine
X-WR-CALDESC:Veranstaltungen von Briefmarkenvereine
REFRESH-INTERVAL;VALUE=DURATION:PT1440M
X-PUBLISHED-TTL:PT1440M
BEGIN:VTIMEZONE
TZID:Europe/Berlin
BEGIN:DAYLIGHT
DTSTART:20250330T020000Z
TZOFFSETFROM:+0100
TZOFFSETTO:+0200
END:DAYLIGHT
BEGIN:STANDARD
DTSTART:20251026T030000Z
TZOFFSETFROM:+0200
TZOFFSETTO:+0100
END:STANDARD
END:VTIMEZONE
BEGIN:VTIMEZONE
TZID:UTC
BEGIN:STANDARD
DTSTART:20250730T033835Z
TZOFFSETFROM:+0000
TZOFFSETTO:+0000
END:STANDARD
END:VTIMEZONE
BEGIN:VEVENT
UID:145-134
DTSTAMP:20260426T033835Z
SUMMARY:Tauschabend SG Bad Salzuflen
LOCATION:Gelbe Schule Martin-Luther-Str. 2  Bad Salzuflen NW 32105
ORGANIZER;CN=Public Submitter:MAILTO:
DTSTART;TZID=Europe/Berlin:20250904T190000
DTEND;TZID=Europe/Berlin:20250904T220000
X-ALT-DESC;FMTTYPE=TEXT/HTML:
CATEGORIES:Tauschtreff
URL;VALUE=URI:https://www.bmsv-owl-os.de/mc-events/tauschabend-sg-bad-salzu
 flen-4/
METHOD:PUBLISH
END:VEVENT
END:VCALENDAR