BEGIN:VCALENDAR
VERSION:2.0
PRODID:spatie/icalendar-generator
DESCRIPTION:Veranstaltungen von Briefmarkenvereine
X-WR-CALDESC:Veranstaltungen von Briefmarkenvereine
REFRESH-INTERVAL;VALUE=DURATION:PT1440M
X-PUBLISHED-TTL:PT1440M
BEGIN:VTIMEZONE
TZID:Europe/Berlin
BEGIN:STANDARD
DTSTART:20251026T030000Z
TZOFFSETFROM:+0200
TZOFFSETTO:+0100
END:STANDARD
BEGIN:DAYLIGHT
DTSTART:20260329T020000Z
TZOFFSETFROM:+0100
TZOFFSETTO:+0200
END:DAYLIGHT
END:VTIMEZONE
BEGIN:VTIMEZONE
TZID:UTC
BEGIN:STANDARD
DTSTART:20250723T211730Z
TZOFFSETFROM:+0000
TZOFFSETTO:+0000
END:STANDARD
END:VTIMEZONE
BEGIN:VEVENT
UID:238-227
DTSTAMP:20260419T211730Z
SUMMARY:Tauschtag BMSV Bielefeld
LOCATION:Bürgerwache am Siegfriedplatz Rolandstr. 16  Bielefeld NW 33615
ORGANIZER;CN=Henner Ungethüm:MAILTO:support@webtogether.de
DTSTART;TZID=Europe/Berlin:20260419T100000
DTEND;TZID=Europe/Berlin:20260419T120000
X-ALT-DESC;FMTTYPE=TEXT/HTML:<p>Vortrag: Wiederaufbau in Bielefeld</p>\n
CATEGORIES:Tauschtreff mit Vortrag
URL;VALUE=URI:https://www.bmsv-owl-os.de/mc-events/tauschtag-bmsv-bielefeld
 -7/
METHOD:PUBLISH
END:VEVENT
END:VCALENDAR